BEGIN:VCALENDAR
VERSION:2.0
PRODID:-//Jonas Diop | Architecte d&#039;affaires pour CEO, consultants &amp; experts et leaders - ECPv6.15.20//NONSGML v1.0//EN
CALSCALE:GREGORIAN
METHOD:PUBLISH
X-WR-CALNAME:Jonas Diop | Architecte d&#039;affaires pour CEO, consultants &amp; experts et leaders
X-ORIGINAL-URL:https://www.jonasdiop.com
X-WR-CALDESC:Évènements pour Jonas Diop | Architecte d&#039;affaires pour CEO, consultants &amp; experts et leaders
REFRESH-INTERVAL;VALUE=DURATION:PT1H
X-Robots-Tag:noindex
X-PUBLISHED-TTL:PT1H
BEGIN:VTIMEZONE
TZID:America/New_York
BEGIN:DAYLIGHT
TZOFFSETFROM:-0500
TZOFFSETTO:-0400
TZNAME:EDT
DTSTART:20240310T070000
END:DAYLIGHT
BEGIN:STANDARD
TZOFFSETFROM:-0400
TZOFFSETTO:-0500
TZNAME:EST
DTSTART:20241103T060000
END:STANDARD
BEGIN:DAYLIGHT
TZOFFSETFROM:-0500
TZOFFSETTO:-0400
TZNAME:EDT
DTSTART:20250309T070000
END:DAYLIGHT
BEGIN:STANDARD
TZOFFSETFROM:-0400
TZOFFSETTO:-0500
TZNAME:EST
DTSTART:20251102T060000
END:STANDARD
BEGIN:DAYLIGHT
TZOFFSETFROM:-0500
TZOFFSETTO:-0400
TZNAME:EDT
DTSTART:20260308T070000
END:DAYLIGHT
BEGIN:STANDARD
TZOFFSETFROM:-0400
TZOFFSETTO:-0500
TZNAME:EST
DTSTART:20261101T060000
END:STANDARD
END:VTIMEZONE
BEGIN:VEVENT
DTSTART;TZID=America/New_York:20250928T090000
DTEND;TZID=America/New_York:20250928T100000
DTSTAMP:20260423T074709
CREATED:20250912T131426Z
LAST-MODIFIED:20250912T131632Z
UID:987501562-1759050000-1759053600@www.jonasdiop.com
SUMMARY:The Game Changer Blueprint
DESCRIPTION:Description :Passe de solo-preneur désorganisé à architecte d’affaires. Dans cette masterclass stratégique (90 min) : \n\n\nPoser les Structures\, Stratégies et Systèmes pour un business qui tourne sans toi \n\n\nConstruire un écosystème complet : offres\, tunnels de vente\, automatisations et contenu \n\n\nIdentifier les leviers de scaling et éliminer le chaos opérationnel \n\n\nDécouvrir comment ajouter un zéro à ton CA en préservant ta liberté
URL:https://www.jonasdiop.com/event/the-game-changer-blueprint/
LOCATION:Sur Zoom
CATEGORIES:Masterclass
ATTACH;FMTTYPE=image/jpeg:https://www.jonasdiop.com/wp-content/uploads/2025/09/carl-heyerdahl-KE0nC8-58MQ-unsplash-scaled.jpg
ORGANIZER;CN="Jonas Diop":MAILTO:contact@jonasdiop.com
END:VEVENT
BEGIN:VEVENT
DTSTART;TZID=America/New_York:20250927T090000
DTEND;TZID=America/New_York:20250927T100000
DTSTAMP:20260423T074709
CREATED:20250912T130911Z
LAST-MODIFIED:20250912T131228Z
UID:987501558-1758963600-1758967200@www.jonasdiop.com
SUMMARY:Focus & Flow Sprint – Devenir Ultra-Productif et Garder la Clarté Mentale
DESCRIPTION:Description :Gagne en focus\, énergie et efficacité sans burn-out. En 75 min\, tu apprendras à : \n\n\nConstruire ton Life OS (habitudes\, tâches\, calendrier) \n\n\nAppliquer la Compression Dynamique du Temps (CDT™) pour produire plus en moins de temps \n\n\nMaîtriser le 12-Week Year et les micro-victoires pour créer du momentum \n\n\nBooster ton énergie (biohacking\, règle 40/40/20\, Pomodoro)
URL:https://www.jonasdiop.com/event/focus-flow-sprint/
LOCATION:Sur Zoom
CATEGORIES:Bootcamps
ATTACH;FMTTYPE=image/jpeg:https://www.jonasdiop.com/wp-content/uploads/2025/09/andreas-klassen-gZB-i-dA6ns-unsplash-scaled.jpg
ORGANIZER;CN="Jonas Diop":MAILTO:contact@jonasdiop.com
END:VEVENT
BEGIN:VEVENT
DTSTART;TZID=America/New_York:20250920T090000
DTEND;TZID=America/New_York:20250920T100000
DTSTAMP:20260423T074709
CREATED:20250826T133821Z
LAST-MODIFIED:20250912T130512Z
UID:987501375-1758358800-1758362400@www.jonasdiop.com
SUMMARY:Close & Scale Live – Neuro-Vente & Closing One Shot\, One Kill
DESCRIPTION:Description :Découvre les secrets de la neuro-vente pour conclure plus vite et plus souvent. Dans ce webinar de 90 min : \n\n\nDécoder le cerveau triunique et les déclencheurs émotionnels d’achat \n\n\nStructurer un pitch sans script (bris de glace → découverte → solution → closing) \n\n\nSurmonter les objections avec l’aïkido des objections \n\n\nAdopter le mindset One Shot\, One Kill pour closer dès le premier appel
URL:https://www.jonasdiop.com/event/close-scale-live/
LOCATION:Sur Zoom
CATEGORIES:Masterclass
ATTACH;FMTTYPE=image/jpeg:https://www.jonasdiop.com/wp-content/uploads/2025/08/shawn-day-ZnkHPagIOlM-unsplash-scaled.jpg
ORGANIZER;CN="Jonas Diop":MAILTO:contact@jonasdiop.com
END:VEVENT
END:VCALENDAR